BEGIN:VCALENDAR
PRODID:-//eluceo/ical//2.0/EN
VERSION:2.0
CALSCALE:GREGORIAN
BEGIN:VEVENT
UID:event-365
DTSTAMP:20260423T152841Z
SUMMARY:Vier het Leven: Artis
DESCRIPTION:During the poker tournament and charity auction\, we raised mon
 ey for charity\; Vier het Leven. Now we are going to Artis with their memb
 ers and you can join us. On April 25 at 13:00. we will tour the beautiful 
 Artis with the elderly members of Vier het Leven.  Location: Artis (Plan
 tage Kerklaan 38-40\, 1018 CZ Amsterdam) Time: 13:00 - 16:00 | Costs: F
 ree | Capacity: 23 Registration: Thursday April 11\, 13:00 - Thursday Ap
 ril 18\, 13:00. Note: Late unregistrations or not showing up may lead to a
  fine. Always contact someone from the board if you are unable to come. Yo
 u can find the fine policy here. It is also expected you attend the whole
  activity when you sign up.
DTSTART:20240425T110000Z
DTEND:20240425T140000Z
END:VEVENT
BEGIN:VTIMEZONE
TZID:UTC
BEGIN:STANDARD
DTSTART:20240425T110000
TZNAME:UTC
TZOFFSETTO:+0000
TZOFFSETFROM:+0000
END:STANDARD
END:VTIMEZONE
END:VCALENDAR
