BEGIN:VCALENDAR
PRODID:-//eluceo/ical//2.0/EN
VERSION:2.0
CALSCALE:GREGORIAN
BEGIN:VEVENT
UID:event-388
DTSTAMP:20260423T153015Z
SUMMARY:Masterday
DESCRIPTION:Are you starting a master's in Econometrics or Operations Resea
 rch at VU Amsterdam this September? Then join us at the Masterday on Thurs
 day\, August 29! The Masterday is the introduction day for new master stud
 ents. There will be information sessions\, company cases and enough opport
 unities to meet your fellow students during a lunch\, drinks and barbecue.
  The walk-in starts at 10:30 on the VU campus and the formal part of the d
 ay will be finished around 17:00. Afterwards we will have a barbecue at Ui
 lenstede\, which is 10 minutes away both by bike and public transport. You
  are not required to join us for the barbecue\, but we would love to see y
 ou there! The programme of the day will be as follows: 10:30 - Walk-in 11:
 00 - Opening and presentations by programme coordinators 11:45 - Informati
 on sessions by Kraket\, Career Services and Study Advisors 12:30 - Lunch 1
 3:30 - Company cases 15:30 - Drinks 17:00 - Barbecue at Uilenstede 20:00 -
  Expected end time There are no registration costs and the lunch and barbe
 cue are provided by Kraket. The Masterday is completely free! You can sign
  up by filling out the registration form. See you there!
DTSTART:20240829T090000Z
DTEND:20240829T150000Z
LOCATION:VU Amsterdam
END:VEVENT
BEGIN:VTIMEZONE
TZID:UTC
BEGIN:STANDARD
DTSTART:20240829T090000
TZNAME:UTC
TZOFFSETTO:+0000
TZOFFSETFROM:+0000
END:STANDARD
END:VTIMEZONE
END:VCALENDAR
