BEGIN:VCALENDAR
PRODID:-//eluceo/ical//2.0/EN
VERSION:2.0
CALSCALE:GREGORIAN
BEGIN:VEVENT
UID:event-393
DTSTAMP:20260423T153152Z
SUMMARY:First Year Activity: Lasergame
DESCRIPTION:Note: this registration is for first year students Starting a n
 ew study can be difficult. Therefore\, we organize an activity specially f
 or all new first-year bachelor students. Challenge your fellow students du
 ring some tense matches of lasergaming and get to know them with some free
  drinks and fried snacks. Make new friends or have a great evening with th
 e friends you already made during the introduction activities! Beforehand
 \, you are very welcome to have a nice bite to eat in the Kraket room.  I
 f you still want to join\, message Atakan (+ 31 6 43112973)! Location: ALO
 HA Capacity: 50 Costs: Free Note: Late unregistrations or not showing up m
 ay lead to a fine. Always contact someone from the board if you are unable
  to come. You can find the fine policy here.
DTSTART:20240905T183000Z
DTEND:20240905T203000Z
END:VEVENT
BEGIN:VTIMEZONE
TZID:UTC
BEGIN:STANDARD
DTSTART:20240905T183000
TZNAME:UTC
TZOFFSETTO:+0000
TZOFFSETFROM:+0000
END:STANDARD
END:VTIMEZONE
END:VCALENDAR
