BEGIN:VCALENDAR
PRODID:-//eluceo/ical//2.0/EN
VERSION:2.0
CALSCALE:GREGORIAN
BEGIN:VEVENT
UID:event-446
DTSTAMP:20260423T153016Z
SUMMARY:Diversity and Development Day
DESCRIPTION:The Diversity and Development Day (DDD) is a unique opportunity
  to meet your potential future employer or simply explore career possibili
 ties after your studies. Unlike more formal events\, DDD stands out with i
 ts semi-informal atmosphere. One aspect that makes this event truly specia
 l is that it welcomes students from all years\, including first- and secon
 d-year students. The day will begin with opening speeches from Triple A - 
 Risk Finance\, followed by the Dutch Ministry of Defence. Additionally\, t
 here will be two workshops focused on personal development\, where you can
  review and improve your CV or participate in the assertive workshop. In t
 he afternoon\, you can take part in speed dating sessions with various com
 panies\, including: Capgemini\, Dutch Ministry of Defence\, Milliman\, Ort
 ec\, Transtrend\, Triple A - Risk Finance\, Van Lanschot Kempen\, Visma Re
 solve. This allows you to engage with employers in a way that suits you\; 
 whether you are actively seeking a job\, internship or simply exploring di
 fferent companies. The event will conclude with networking drinks\, provid
 ing a relaxed setting to continue conversations with company representativ
 es. Registrations open: February 14\, 13.00 - February 21\, 13.00. Capac
 ity: 48 Costs: Free Note: Late unregistrations or not showing up may lead 
 to a fine. Always contact Atakan Tektas (+31 6 43112973) from the board i
 f you are unable to come. You can find the fine policy here.
DTSTART:20250307T084500Z
DTEND:20250307T163000Z
END:VEVENT
BEGIN:VTIMEZONE
TZID:UTC
BEGIN:STANDARD
DTSTART:20250307T084500
TZNAME:UTC
TZOFFSETTO:+0000
TZOFFSETFROM:+0000
END:STANDARD
END:VTIMEZONE
END:VCALENDAR
