BEGIN:VCALENDAR
PRODID:-//eluceo/ical//2.0/EN
VERSION:2.0
CALSCALE:GREGORIAN
BEGIN:VEVENT
UID:event-481
DTSTAMP:20260423T153224Z
SUMMARY:First Year: Laser Tag
DESCRIPTION:Note: This activity gives priority to first-year students. Star
 ting your first year can be a lot to take in\, so we’re hosting a fun ev
 ening especially for bachelor first-year students. Join us for a few round
 s of laser tag\, grab some drinks and snacks\, and take the chance to meet
  new people. Whether you’re looking to make new friends or simply hang o
 ut with the ones you already know\, it’ll be a relaxed and enjoyable nig
 ht. Time: 20:00 - 22:30 Registrations open: August 21\, 13:00 Capacity: 50
  Costs: Free Note: Late unregistrations or not showing up may lead to a fi
 ne. Always contact Timo van den Doel (+31 6 33197262) from the board if y
 ou are unable to come. You can find the fine policy here.
DTSTART:20250904T180000Z
DTEND:20250904T203000Z
END:VEVENT
BEGIN:VTIMEZONE
TZID:UTC
BEGIN:STANDARD
DTSTART:20250904T180000
TZNAME:UTC
TZOFFSETTO:+0000
TZOFFSETFROM:+0000
END:STANDARD
END:VTIMEZONE
END:VCALENDAR
