BEGIN:VCALENDAR
PRODID:-//eluceo/ical//2.0/EN
VERSION:2.0
CALSCALE:GREGORIAN
BEGIN:VEVENT
UID:event-487
DTSTAMP:20260423T152841Z
SUMMARY:Inhouseday: Aegon Asset Management
DESCRIPTION:Note: This activity is only for third year or higher students (
 including masters). At Aegon Asset Management\, we believe in fundamental\
 , research-driven active management\, underpinned by effective risk manage
 ment. As a global active investment firm\, we deliver active investment so
 lutions through four global platforms: Fixed Income\, Real Assets\, Equiti
 es\, and Multi-Asset &amp\; Solutions. Our Alternative Fixed Income team
  offers a unique opportunity for quant-minded students to apply their ana
 lytical skills to complex\, non-traditional markets. From ABS and Structur
 ed Finance to Private Debt and Direct Lending\, we manage a wide range of 
 strategies across the credit spectrum—designed to deliver enhanced retur
 ns for a global client base. With over 40 investment professionals based i
 n Amsterdam and London\, we combine global reach with local expertise and 
 we manage about €84bln of assets via funds and segregated accounts for e
 xternal clients such as pension funds\, insurers\, private banks\, and fam
 ily offices worldwide. Curious to learn more? Join us at our Inhouseday on
  October 2!  Time: 14:00 - 17:30 Registrations open: September 11\, 13:00
  - September 18\, 13:00 Capacity: 25 Costs: Free Note: Late unregistration
 s or not showing up may lead to a fine. Always contact Timo van den Doel (
 +31 6 33197262) from the board if you are unable to come. You can find th
 e fine policy here.
DTSTART:20251002T120000Z
DTEND:20251002T153000Z
LOCATION:World Trade Center Schiphol
END:VEVENT
BEGIN:VTIMEZONE
TZID:UTC
BEGIN:STANDARD
DTSTART:20251002T120000
TZNAME:UTC
TZOFFSETTO:+0000
TZOFFSETFROM:+0000
END:STANDARD
END:VTIMEZONE
END:VCALENDAR
