BEGIN:VCALENDAR
PRODID:-//eluceo/ical//2.0/EN
VERSION:2.0
CALSCALE:GREGORIAN
BEGIN:VEVENT
UID:event-503
DTSTAMP:20260423T153223Z
SUMMARY:DoMiBo 2: Kraket Red
DESCRIPTION:Ready for our second DoMiBo? This time the theme is Kraket Red!
   We’ll have kroketten\, and you’re welcome to come dressed in red. O
 nly if you sign up\, you’ll get a kroket! On top of that: we’ve also i
 nvited lots of teachers! You can chat with them about anything: what they 
 do\, their courses\, possible thesis topics\, potential supervisors for y
 our thesis\, or just get to know them better. It’s a great way to conne
 ct with the teachers in a fun and relaxed way! You don’t want to miss th
 is DoMiBo! Time: 16:00 - 20:00 Registrations open: November 13\, 13:00 Cap
 acity: Unlimited Costs: Free
DTSTART:20251127T150000Z
DTEND:20251127T190000Z
LOCATION:Kraket Room
END:VEVENT
BEGIN:VTIMEZONE
TZID:UTC
BEGIN:STANDARD
DTSTART:20251127T150000
TZNAME:UTC
TZOFFSETTO:+0000
TZOFFSETFROM:+0000
END:STANDARD
END:VTIMEZONE
END:VCALENDAR
