BEGIN:VCALENDAR
PRODID:-//eluceo/ical//2.0/EN
VERSION:2.0
CALSCALE:GREGORIAN
BEGIN:VEVENT
UID:event-507
DTSTAMP:20260423T153152Z
SUMMARY:Handouts in the Kraket Room: Cup a Soup Week
DESCRIPTION:Exam week for Period 2 is almost here! Need a little boost whi
 le studying? Come to the Kraket Room (HG-08A30) for a warm free cup of sou
 p\, perfect for a cozy winter day. If possible\, please bring your own cup
  :) Stop by\, grab a cup\, and good luck with your exam prep! See you soon
 !
DTSTART:20251208T090000Z
DTEND:20251212T160000Z
LOCATION:Kraket Room
END:VEVENT
BEGIN:VTIMEZONE
TZID:UTC
BEGIN:STANDARD
DTSTART:20251208T090000
TZNAME:UTC
TZOFFSETTO:+0000
TZOFFSETFROM:+0000
END:STANDARD
END:VTIMEZONE
END:VCALENDAR
