BEGIN:VCALENDAR
PRODID:-//eluceo/ical//2.0/EN
VERSION:2.0
CALSCALE:GREGORIAN
BEGIN:VEVENT
UID:event-553
DTSTAMP:20260423T134013Z
SUMMARY:LateX Overleaf Cursus
DESCRIPTION:LateX Overleaf Cursus Take your academic writing to the next le
 vel with our LaTeX (Overleaf) course. In this course\, you’ll learn how 
 to create clean\, professional documents without struggling with formattin
 g. From setting up your first document to working with references\, figure
 s\, and equations\, we’ll guide you through the essentials step by step.
  Whether you’re writing a thesis or a report\, LaTeX will help you work 
 more efficiently and get better results. If you have any questions regardi
 ng this event\, please contact our Educational Officer Robbert Bernecker v
 ia onderwijs@kraket.nl Time: TBD Registrations open: April 23\, 13:00 - Ma
 y 7\, 13:00. Capacity: 40 Costs: Free Note: Late unregistrations or not sh
 owing up may lead to a fine. Always contact Timo van den Doel (+31 6 33197
 262) from the board if you are unable to come. You can find the fine poli
 cy here.
DTSTART:20260506T220000Z
DTEND:20260507T210000Z
LOCATION:Vrije Universiteit Amsterdam
END:VEVENT
BEGIN:VTIMEZONE
TZID:UTC
BEGIN:STANDARD
DTSTART:20260506T220000
TZNAME:UTC
TZOFFSETTO:+0000
TZOFFSETFROM:+0000
END:STANDARD
END:VTIMEZONE
END:VCALENDAR
